BEGIN:VCALENDAR
VERSION:2.0
PRODID:-//ChamberMaster//Event Calendar 2.0//EN
METHOD:PUBLISH
X-PUBLISHED-TTL:P3D
REFRESH-INTERVAL:P3D
CALSCALE:GREGORIAN
BEGIN:VEVENT
DTSTART:20151021T181500Z
DTEND:20151021T183000Z
X-MICROSOFT-CDO-ALLDAYEVENT:FALSE
SUMMARY:New Member Presentation
DESCRIPTION:Cowboy Canine\, Katina Ross Owner\n\nNew Member Presentation
X-ALT-DESC;FMTTYPE=text/html:Cowboy Canine\, Katina Ross Owner<br />\nNew Member Presentation&nbsp\;
LOCATION:Chamber of Commerce 302 S. Main St. Jacksboro\, TX
UID:e.1259.3874
SEQUENCE:3
DTSTAMP:20260419T133911Z
URL:http://jacksborochamber.chambermaster.com/events/details/new-member-presentation-10-21-2015-3874
END:VEVENT

END:VCALENDAR
