BEGIN:VCALENDAR
VERSION:2.0
PRODID:-//ChamberMaster//Event Calendar 2.0//EN
METHOD:PUBLISH
X-PUBLISHED-TTL:P3D
REFRESH-INTERVAL:P3D
CALSCALE:GREGORIAN
BEGIN:VEVENT
DTSTART;VALUE=DATE:20140522
DTEND;VALUE=DATE:20140523
TRANSP:TRANSPARENT
X-MICROSOFT-CDO-ALLDAYEVENT:TRUE
SUMMARY:Library Summer Reading Program Kick-off
DESCRIPTION:Library Summer Reading Kick-off\n\nGames\, snacks and sign up for the reading program\n\nThursday\, May 22\, 2014\n\n3pm-4:30pm\n\nFor more information call 940-567-2240
X-ALT-DESC;FMTTYPE=text/html:Library Summer Reading Kick-off<br />\nGames\, snacks and sign up for the reading program<br />\nThursday\, May 22\, 2014<br />\n3pm-4:30pm<br />\nFor more information call 940-567-2240
LOCATION:Gladys Johnson Ritchie Public Library
UID:e.1259.3475
SEQUENCE:3
DTSTAMP:20260424T090254Z
URL:http://jacksborochamber.chambermaster.com/events/details/library-summer-reading-program-kick-off-05-22-2014-3475
END:VEVENT

END:VCALENDAR
