BEGIN:VCALENDAR
VERSION:2.0
PRODID:-//ChamberMaster//Event Calendar 2.0//EN
METHOD:PUBLISH
X-PUBLISHED-TTL:P3D
REFRESH-INTERVAL:P3D
CALSCALE:GREGORIAN
BEGIN:VEVENT
DTSTART:20140920T180000Z
DTEND:20140920T220000Z
X-MICROSOFT-CDO-ALLDAYEVENT:FALSE
SUMMARY:Intertrible Dance
DESCRIPTION:Intertrible dance come and enjoy the sights and sounds of the native Americans As they dance with the beat of the native drum.
X-ALT-DESC;FMTTYPE=text/html:Intertrible dance come and enjoy the sights and sounds of the native Americans As they dance with the beat of the native drum.
LOCATION:Fort Richardson State Park in front of the hospital
UID:e.1259.3630
SEQUENCE:3
DTSTAMP:20260423T163813Z
URL:http://jacksborochamber.chambermaster.com/events/details/intertrible-dance-09-20-2014-3630
END:VEVENT

END:VCALENDAR
