BEGIN:VCALENDAR
VERSION:2.0
PRODID:-//ChamberMaster//Event Calendar 2.0//EN
METHOD:PUBLISH
X-PUBLISHED-TTL:P3D
REFRESH-INTERVAL:P3D
CALSCALE:GREGORIAN
BEGIN:VEVENT
DTSTART:20150425T230000Z
DTEND:20150426T030000Z
X-MICROSOFT-CDO-ALLDAYEVENT:FALSE
SUMMARY:Concerned Citizens Annual Dinner
DESCRIPTION:Concerned Citizens annual fundraising dinner.
X-ALT-DESC;FMTTYPE=text/html:Concerned Citizens annual fundraising dinner.
LOCATION:400 East Pine Street
UID:e.1259.3612
SEQUENCE:3
DTSTAMP:20260421T022830Z
URL:http://jacksborochamber.chambermaster.com/events/details/concerned-citizens-annual-dinner-04-25-2015-3612
END:VEVENT

END:VCALENDAR
