BEGIN:VCALENDAR
VERSION:2.0
PRODID:-//ChamberMaster//Event Calendar 2.0//EN
METHOD:PUBLISH
X-PUBLISHED-TTL:P3D
REFRESH-INTERVAL:P3D
CALSCALE:GREGORIAN
BEGIN:VEVENT
DTSTART:20150612T164500Z
DTEND:20150612T170000Z
X-MICROSOFT-CDO-ALLDAYEVENT:FALSE
SUMMARY:Compliance Solutions Ribbon Cutting
DESCRIPTION:Ribbon Cutting for Compliance Solutions\, Friday\, June 12\, 11:45am.
X-ALT-DESC;FMTTYPE=text/html:Ribbon Cutting for Compliance Solutions\, Friday\, June 12\, 11:45am. &nbsp\;
LOCATION:Compliance Solutions 101 North Main Street\, Ste 100 Jacksboro
UID:e.1259.3852
SEQUENCE:3
DTSTAMP:20260420T165451Z
URL:http://jacksborochamber.chambermaster.com/events/details/compliance-solutions-ribbon-cutting-06-12-2015-3852
END:VEVENT

END:VCALENDAR
