BEGIN:VCALENDAR
VERSION:2.0
PRODID:-//ChamberMaster//Event Calendar 2.0//EN
METHOD:PUBLISH
X-PUBLISHED-TTL:P3D
REFRESH-INTERVAL:P3D
CALSCALE:GREGORIAN
BEGIN:VEVENT
DTSTART:20151211T003000Z
DTEND:20151211T013000Z
X-MICROSOFT-CDO-ALLDAYEVENT:FALSE
SUMMARY:Christmas Parade
DESCRIPTION:Christmas Parade
X-ALT-DESC;FMTTYPE=text/html:Christmas Parade
LOCATION:On the Square Jacksboro\, TX
UID:e.1259.3882
SEQUENCE:3
DTSTAMP:20260419T133911Z
URL:http://jacksborochamber.chambermaster.com/events/details/christmas-parade-12-10-2015-3882
END:VEVENT

END:VCALENDAR
