BEGIN:VCALENDAR
VERSION:2.0
PRODID:-//ChamberMaster//Event Calendar 2.0//EN
METHOD:PUBLISH
X-PUBLISHED-TTL:P3D
REFRESH-INTERVAL:P3D
CALSCALE:GREGORIAN
BEGIN:VEVENT
DTSTART;VALUE=DATE:20141013
DTEND;VALUE=DATE:20141014
TRANSP:TRANSPARENT
X-MICROSOFT-CDO-ALLDAYEVENT:TRUE
SUMMARY:CASA Volunteer Training Class
DESCRIPTION:We provide child Advocates to serve as Independent Voices in court for abused and neglected children and advocate for services for children in foster care. *Dinner will be provided *Must register by August 25\, 2014\n\nAdditional weekly classes will be held for a total of 5 weeks
X-ALT-DESC;FMTTYPE=text/html:We provide child Advocates to serve as Independent Voices in court for abused and neglected children and advocate for services for children in foster care. *Dinner will be provided *Must register by August 25\, 2014<br />\nAdditional weekly classes will be held for a total of 5 weeks&nbsp\;
LOCATION:CASA Office 300 E Pecan St. Decatur\, TX 76234
UID:e.1259.3625
SEQUENCE:3
DTSTAMP:20260424T145940Z
URL:http://jacksborochamber.chambermaster.com/events/details/casa-volunteer-training-class-10-13-2014-3625
END:VEVENT

END:VCALENDAR
